BEGIN:VCALENDAR
VERSION:2.0
PRODID:-//BTG Hockey - ECPv6.15.20//NONSGML v1.0//EN
CALSCALE:GREGORIAN
METHOD:PUBLISH
X-WR-CALNAME:BTG Hockey
X-ORIGINAL-URL:https://bielefeldertg.de
X-WR-CALDESC:Veranstaltungen für BTG Hockey
REFRESH-INTERVAL;VALUE=DURATION:PT1H
X-Robots-Tag:noindex
X-PUBLISHED-TTL:PT1H
BEGIN:VTIMEZONE
TZID:Europe/Berlin
BEGIN:DAYLIGHT
TZOFFSETFROM:+0100
TZOFFSETTO:+0200
TZNAME:CEST
DTSTART:20240331T010000
END:DAYLIGHT
BEGIN:STANDARD
TZOFFSETFROM:+0200
TZOFFSETTO:+0100
TZNAME:CET
DTSTART:20241027T010000
END:STANDARD
BEGIN:DAYLIGHT
TZOFFSETFROM:+0100
TZOFFSETTO:+0200
TZNAME:CEST
DTSTART:20250330T010000
END:DAYLIGHT
BEGIN:STANDARD
TZOFFSETFROM:+0200
TZOFFSETTO:+0100
TZNAME:CET
DTSTART:20251026T010000
END:STANDARD
BEGIN:DAYLIGHT
TZOFFSETFROM:+0100
TZOFFSETTO:+0200
TZNAME:CEST
DTSTART:20260329T010000
END:DAYLIGHT
BEGIN:STANDARD
TZOFFSETFROM:+0200
TZOFFSETTO:+0100
TZNAME:CET
DTSTART:20261025T010000
END:STANDARD
END:VTIMEZONE
BEGIN:VEVENT
DTSTART;TZID=Europe/Berlin:20250928T110000
DTEND;TZID=Europe/Berlin:20250928T123000
DTSTAMP:20260422T134258
CREATED:20250722T122532Z
LAST-MODIFIED:20250809T152305Z
UID:8383-1759057200-1759062600@bielefeldertg.de
SUMMARY:Herren gegen RHTC Rheine
DESCRIPTION:
URL:https://bielefeldertg.de/event/herren-gegen-rhtc-rheine/
LOCATION:Am Brodhagen\, Am Brodhagen 54\, Bielefeld\, 33613\, Germany
END:VEVENT
BEGIN:VEVENT
DTSTART;TZID=Europe/Berlin:20250928T130000
DTEND;TZID=Europe/Berlin:20250928T143000
DTSTAMP:20260422T134258
CREATED:20250722T122847Z
LAST-MODIFIED:20250809T152238Z
UID:8392-1759064400-1759069800@bielefeldertg.de
SUMMARY:Damen gegen TV Jahn Hiesfeld
DESCRIPTION:
URL:https://bielefeldertg.de/event/damen-gegen-tv-jahn-hiesfeld/
LOCATION:Am Brodhagen\, Am Brodhagen 54\, Bielefeld\, 33613\, Germany
END:VEVENT
END:VCALENDAR