BEGIN:VCALENDAR
VERSION:2.0
PRODID:-//BTG Hockey - ECPv6.15.20//NONSGML v1.0//EN
CALSCALE:GREGORIAN
METHOD:PUBLISH
X-WR-CALNAME:BTG Hockey
X-ORIGINAL-URL:https://bielefeldertg.de
X-WR-CALDESC:Veranstaltungen für BTG Hockey
REFRESH-INTERVAL;VALUE=DURATION:PT1H
X-Robots-Tag:noindex
X-PUBLISHED-TTL:PT1H
BEGIN:VTIMEZONE
TZID:Europe/Berlin
BEGIN:DAYLIGHT
TZOFFSETFROM:+0100
TZOFFSETTO:+0200
TZNAME:CEST
DTSTART:20240331T010000
END:DAYLIGHT
BEGIN:STANDARD
TZOFFSETFROM:+0200
TZOFFSETTO:+0100
TZNAME:CET
DTSTART:20241027T010000
END:STANDARD
BEGIN:DAYLIGHT
TZOFFSETFROM:+0100
TZOFFSETTO:+0200
TZNAME:CEST
DTSTART:20250330T010000
END:DAYLIGHT
BEGIN:STANDARD
TZOFFSETFROM:+0200
TZOFFSETTO:+0100
TZNAME:CET
DTSTART:20251026T010000
END:STANDARD
BEGIN:DAYLIGHT
TZOFFSETFROM:+0100
TZOFFSETTO:+0200
TZNAME:CEST
DTSTART:20260329T010000
END:DAYLIGHT
BEGIN:STANDARD
TZOFFSETFROM:+0200
TZOFFSETTO:+0100
TZNAME:CET
DTSTART:20261025T010000
END:STANDARD
END:VTIMEZONE
BEGIN:VEVENT
DTSTART;TZID=Europe/Berlin:20251005T103000
DTEND;TZID=Europe/Berlin:20251005T180000
DTSTAMP:20260422T104252
CREATED:20250411T150829Z
LAST-MODIFIED:20250911T093526Z
UID:8231-1759660200-1759687200@bielefeldertg.de
SUMMARY:Abhockeln
DESCRIPTION:Kommt alle zu uns
URL:https://bielefeldertg.de/event/abhockeln/
LOCATION:Am Brodhagen\, Am Brodhagen 54\, Bielefeld\, 33613\, Germany
END:VEVENT
BEGIN:VEVENT
DTSTART;TZID=Europe/Berlin:20251005T110000
DTEND;TZID=Europe/Berlin:20251005T123000
DTSTAMP:20260422T104252
CREATED:20250722T122610Z
LAST-MODIFIED:20250809T152207Z
UID:8385-1759662000-1759667400@bielefeldertg.de
SUMMARY:Herren gegen Eintracht Dortmund
DESCRIPTION:
URL:https://bielefeldertg.de/event/herren-gegen-eintracht-dortmund/
LOCATION:Am Brodhagen\, Am Brodhagen 54\, Bielefeld\, 33613\, Germany
END:VEVENT
BEGIN:VEVENT
DTSTART;TZID=Europe/Berlin:20251005T130000
DTEND;TZID=Europe/Berlin:20251005T143000
DTSTAMP:20260422T104252
CREATED:20250722T122922Z
LAST-MODIFIED:20250809T152140Z
UID:8394-1759669200-1759674600@bielefeldertg.de
SUMMARY:Damen gegen THC Münster 2
DESCRIPTION:
URL:https://bielefeldertg.de/event/damen-gegen-thc-muenster-2/
LOCATION:Am Brodhagen\, Am Brodhagen 54\, Bielefeld\, 33613\, Germany
END:VEVENT
BEGIN:VEVENT
DTSTART;TZID=Europe/Berlin:20251008T193000
DTEND;TZID=Europe/Berlin:20251008T193000
DTSTAMP:20260422T104252
CREATED:20250423T162403Z
LAST-MODIFIED:20250423T162629Z
UID:8307-1759951800-1759951800@bielefeldertg.de
SUMMARY:Informationsabend für Eltern unserer Hockeyneulinge mit wichtigen Infos rund um unseren Lieblingssport
DESCRIPTION:
URL:https://bielefeldertg.de/event/informationsabend-fuer-eltern-unserer-hockeyneulinge-mit-wichtigen-infos-rund-um-unseren-lieblingssport/
LOCATION:Am Brodhagen\, Am Brodhagen 54\, Bielefeld\, 33613\, Germany
END:VEVENT
END:VCALENDAR